BEGIN:VCALENDAR
VERSION:2.0
PRODID:-//eventon.com NONSGML v1.0//EN
CALSCALE:GREGORIAN
METHOD:PUBLISH
BEGIN:VEVENT
UID:69eaa007bc765
DTSTAMP:20260423T224111Z
DTSTART:20260625T010000Z
DTEND:20260625T030000Z
LOCATION:Mercedes-Benz Stadium\,  Atlanta GA 1 AMB Dr NW
SUMMARY:Championnat du Monde 2026: Haiti Vs Maroc
DESCRIPTION:La Troisième rencontre d&rsquo;Haiti au Championnat du monde 2
 026 Haiti VS Maroc Haiti VS Maroc\nhttps://www.haiti-reference.info/pages/e
 vents/fifa-2026-haiti-vs-maroc/
URL:https://www.haiti-reference.info/pages/events/fifa-2026-haiti-vs-maroc/
END:VEVENT
END:VCALENDAR