BEGIN:VCALENDAR
VERSION:2.0
PRODID:-//eventon.com NONSGML v1.0//EN
CALSCALE:GREGORIAN
METHOD:PUBLISH
BEGIN:VEVENT
UID:69ea8faee17d3
DTSTAMP:20260423T213126Z
DTSTART:20260620T010000Z
DTEND:20260620T030000Z
LOCATION:Philadelphia Stadium 1020 Pattison Avenue
SUMMARY:Championnat du Monde 2026: Haiti Vs Brésil
DESCRIPTION:La deuxième rencontre d&rsquo;Haiti au Championnat du monde 20
 26 Haiti VS Brésil Haiti VS Brésil\nhttps://www.haiti-reference.info/page
 s/events/fifa-2026-haiti-vs-bresil/
URL:https://www.haiti-reference.info/pages/events/fifa-2026-haiti-vs-bresil/
END:VEVENT
END:VCALENDAR