BEGIN:VCALENDAR
VERSION:2.0
PRODID:-//eventon.com NONSGML v1.0//EN
CALSCALE:GREGORIAN
METHOD:PUBLISH
BEGIN:VEVENT
UID:69eaa5cb306eb
DTSTAMP:20260423T230547Z
DTSTART:20260614T010000Z
DTEND:20260614T030000Z
LOCATION:Gillette Stadium 1 Patriot Pl\,  \,  MA · 14 mi
SUMMARY:Championnat du Monde 2026: Haiti Vs Écosse
DESCRIPTION:La première rencontre d&rsquo;Haiti au Championnat du monde 20
 26 Haiti VS Écosse Haiti VS Écosse\nhttps://www.haiti-reference.info/page
 s/events/fifa-2026-haiti-vs-ecosse/
URL:https://www.haiti-reference.info/pages/events/fifa-2026-haiti-vs-ecosse/
END:VEVENT
END:VCALENDAR