BEGIN:VCALENDAR
VERSION:2.0
PRODID:-//eventon.com NONSGML v1.0//EN
CALSCALE:GREGORIAN
METHOD:PUBLISH
BEGIN:VEVENT
UID:69ea88ee5980a
DTSTAMP:20260423T210238Z
DTSTART:20240102
DTEND:20240103
LOCATION:Haiti: Sur tout le territoire Haiti
SUMMARY:Jour des Aïeux
DESCRIPTION:Journée de commémoration des ancêtres et héros de l&rsquo;I
 ndépendance. Ces preux qui\,  au premier 1804\,  ont juré « à l&rsquo;
 univers entier\,  à la postérité\,  à nous-mêmes\,  de renoncer à jam
 ais à la France\,  et de mourir plutôt que de vivre sous sa domination. 
 » ☆ Fête nationale ☆ Jour férié sur tout[..]\nhttps://www.haiti-ref
 erence.info/pages/events/jour-des-aieux/
URL:https://www.haiti-reference.info/pages/events/jour-des-aieux/
END:VEVENT
END:VCALENDAR